BEGIN:VCALENDAR
VERSION:2.0
PRODID:-//Arctic Air-Cooled VWs - ECPv6.15.17.1//NONSGML v1.0//EN
CALSCALE:GREGORIAN
METHOD:PUBLISH
X-WR-CALNAME:Arctic Air-Cooled VWs
X-ORIGINAL-URL:https://www.arcticaircooledvws.com
X-WR-CALDESC:Events for Arctic Air-Cooled VWs
REFRESH-INTERVAL;VALUE=DURATION:PT1H
X-Robots-Tag:noindex
X-PUBLISHED-TTL:PT1H
BEGIN:VTIMEZONE
TZID:America/Anchorage
BEGIN:DAYLIGHT
TZOFFSETFROM:-0900
TZOFFSETTO:-0800
TZNAME:AKDT
DTSTART:20240310T110000
END:DAYLIGHT
BEGIN:STANDARD
TZOFFSETFROM:-0800
TZOFFSETTO:-0900
TZNAME:AKST
DTSTART:20241103T100000
END:STANDARD
BEGIN:DAYLIGHT
TZOFFSETFROM:-0900
TZOFFSETTO:-0800
TZNAME:AKDT
DTSTART:20250309T110000
END:DAYLIGHT
BEGIN:STANDARD
TZOFFSETFROM:-0800
TZOFFSETTO:-0900
TZNAME:AKST
DTSTART:20251102T100000
END:STANDARD
BEGIN:DAYLIGHT
TZOFFSETFROM:-0900
TZOFFSETTO:-0800
TZNAME:AKDT
DTSTART:20260308T110000
END:DAYLIGHT
BEGIN:STANDARD
TZOFFSETFROM:-0800
TZOFFSETTO:-0900
TZNAME:AKST
DTSTART:20261101T100000
END:STANDARD
END:VTIMEZONE
BEGIN:VEVENT
DTSTART;TZID=America/Anchorage:20250819T183000
DTEND;TZID=America/Anchorage:20250819T203000
DTSTAMP:20260425T172144
CREATED:20250128T092416Z
LAST-MODIFIED:20250820T020543Z
UID:950-1755628200-1755635400@www.arcticaircooledvws.com
SUMMARY:Next Club Meeting  - AACVW's POKER RUN!
DESCRIPTION:Tonights the AACVW’s POKER RUN! \n\nFlyer attached (we will have these available for handout at the start of the Run tonight!) \n\nThis will be a planned event\, starting off where PostMark Drive and Northern Lights Blvd meet\, called Airport Park. \nThis is where the first card will be handed out\, and then we will learn a little bit about aviation along the way. \nJoin us rain or shine\, if* it is raining too hard\, there is a possibility of bypassing the cruise and driving directly to the end destination @ Tikahtnu Red Robin.* \n\nBe sure to top off your tank prior\, and expect about an hour and a half drive through Anchorage\, perhaps even to places you’ve never drove (laid rubber to the road) before\, this will all be on Anchorage roads\, and only dirt will be the parking lot at Airport Park (DT Anchorage View Point). \nWe look forward to seeing you out there THIS TUESDAY EVENING (08/19/2025) starting off (show up early) around 6:30 PM! \nAddress we’ll be meeting up at:\nDowntown Anchorage Viewpoint\, Anchorage\, AK 99502\nhttps://maps.app.goo.gl/72yQ7QJ1hL4jWSFk9 \n\n\nPresident AACVW’s\,\nEddie Hoecher\n(907)952-1147
URL:https://www.arcticaircooledvws.com/event/next-club-meeting-guidos-pizza-on-intl-airport-rd-7/
LOCATION:Downtown Anchorage Viewpoint
END:VEVENT
END:VCALENDAR