BEGIN:VCALENDAR
VERSION:2.0
PRODID:-//Arctic Air-Cooled VWs - ECPv6.15.17.1//NONSGML v1.0//EN
CALSCALE:GREGORIAN
METHOD:PUBLISH
X-ORIGINAL-URL:https://www.arcticaircooledvws.com
X-WR-CALDESC:Events for Arctic Air-Cooled VWs
REFRESH-INTERVAL;VALUE=DURATION:PT1H
X-Robots-Tag:noindex
X-PUBLISHED-TTL:PT1H
BEGIN:VTIMEZONE
TZID:America/Anchorage
BEGIN:DAYLIGHT
TZOFFSETFROM:-0900
TZOFFSETTO:-0800
TZNAME:AKDT
DTSTART:20240310T110000
END:DAYLIGHT
BEGIN:STANDARD
TZOFFSETFROM:-0800
TZOFFSETTO:-0900
TZNAME:AKST
DTSTART:20241103T100000
END:STANDARD
BEGIN:DAYLIGHT
TZOFFSETFROM:-0900
TZOFFSETTO:-0800
TZNAME:AKDT
DTSTART:20250309T110000
END:DAYLIGHT
BEGIN:STANDARD
TZOFFSETFROM:-0800
TZOFFSETTO:-0900
TZNAME:AKST
DTSTART:20251102T100000
END:STANDARD
BEGIN:DAYLIGHT
TZOFFSETFROM:-0900
TZOFFSETTO:-0800
TZNAME:AKDT
DTSTART:20260308T110000
END:DAYLIGHT
BEGIN:STANDARD
TZOFFSETFROM:-0800
TZOFFSETTO:-0900
TZNAME:AKST
DTSTART:20261101T100000
END:STANDARD
BEGIN:DAYLIGHT
TZOFFSETFROM:-0900
TZOFFSETTO:-0800
TZNAME:AKDT
DTSTART:20270314T110000
END:DAYLIGHT
BEGIN:STANDARD
TZOFFSETFROM:-0800
TZOFFSETTO:-0900
TZNAME:AKST
DTSTART:20271107T100000
END:STANDARD
END:VTIMEZONE
BEGIN:VEVENT
DTSTART;TZID=America/Anchorage:20251021T190000
DTEND;TZID=America/Anchorage:20251021T203000
DTSTAMP:20260425T172703
CREATED:20250128T092644Z
LAST-MODIFIED:20250128T092644Z
UID:954-1761073200-1761078600@www.arcticaircooledvws.com
SUMMARY:Next Club Meeting @ Guido's Pizza on Int'l Airport Rd.
DESCRIPTION:Until further notice\, AACVW club meetings are every third Tuesday\, currently @ Guido’s Pizza on Int’l Airport Rd.  We hope to see you there!  Check here to see if that changes. \nThe next meeting will be on October 21 @ 7:00 pm. \nPhotos are up of the 2024 Family Reunion\, check them out on our Photo Gallery page.
URL:https://www.arcticaircooledvws.com/event/next-club-meeting-guidos-pizza-on-intl-airport-rd-9/
LOCATION:Guido’s Pizza\, 549 W International Airport Rd.\, Anchorage\, Anchorage\, 99518
END:VEVENT
BEGIN:VEVENT
DTSTART;TZID=America/Anchorage:20251118T190000
DTEND;TZID=America/Anchorage:20251118T203000
DTSTAMP:20260425T172703
CREATED:20250128T092755Z
LAST-MODIFIED:20251118T033954Z
UID:956-1763492400-1763497800@www.arcticaircooledvws.com
SUMMARY:Next Club Meeting @ Guido's Pizza on Int'l Airport Rd.
DESCRIPTION:Do you want to be a part of AACVW board? What would you like to see become of this air-cooled VW club?! \nDo you want to help take it to the next level\, have ideas\, of what we can become? Join us at our monthly membership meeting for our annual election. \nPositions we elect for are Club President\, Vice President\, Treasurer\, and Secretary\, members at large. \nThis next meeting is Tuesday\, November 18th\, 2025 starting @ 7pm. \nJoin us @ Guidos! \nWe may also have guests from MSSRA joining us such as the President of MSSRA\, and maybe even the President of Antique Auto Mushers too boot! \nI think good things the potential for good things happening in the coming year are abound! \nWe look forward to seeing you there we’ll cover shortly a year in review\, and talk about the Christmas “Holiday” party. \nPresident AACVW’s\,\nEddie Hoecher \n—— \nUntil further notice\, AACVW club meetings are every third Tuesday\, currently @ Guido’s Pizza on Int’l Airport Rd.  We hope to see you there!  Check here to see if that changes. \nOur Christmas party will be next month\, details coming soon. \nPhotos are up of the 2024 Family Reunion\, check them out on our Photo Gallery page.
URL:https://www.arcticaircooledvws.com/event/next-club-meeting-guidos-pizza-on-intl-airport-rd-10/
LOCATION:Guido’s Pizza\, 549 W International Airport Rd.\, Anchorage\, Anchorage\, 99518
END:VEVENT
BEGIN:VEVENT
DTSTART;TZID=America/Anchorage:20251209T190000
DTEND;TZID=America/Anchorage:20251209T203000
DTSTAMP:20260425T172703
CREATED:20251126T032028Z
LAST-MODIFIED:20251203T065106Z
UID:1078-1765306800-1765312200@www.arcticaircooledvws.com
SUMMARY:Club Holiday Party - 7:00 pm @ Guido's Pizza!
DESCRIPTION:Our club holiday party will be be at Guido’s Pizza on 12/9/25 at 7:00. \n\nArctic Aircooled Volkswagens hopes you had a great holiday weekend as we jump fast into December 1st\, ready or not! \n…And with this being said\, we (AACVW’s) will be hosting our annual holiday party and gift exchange. We are proud to have MSSRA\, and some other clubs join us at the party! \nSo bring something car related you’d like to exchange or gift up to $40 limit and play along! If you bring something you get a ticket to play! And please bring the family out as well so they can play too if they bring a wrapped gift! \n\nOtherwise just join us because we’re fun\, and cool\, no business outside of helping me welcome your new crew for 2026!President AACVW’s\nEddie Hoecher \nVice President AACVW’s\nChad Wilts\n\nSecretary\nAnnamaria DiCola \n\n\nTreasurer\nVacant (Filled by President until position is filled)Webmaster\nJeff Carlisle
URL:https://www.arcticaircooledvws.com/event/next-club-meeting-700-pm-guidos-pizza/
LOCATION:Guido’s Pizza\, 549 W International Airport Rd.\, Anchorage\, Anchorage\, 99518
END:VEVENT
BEGIN:VEVENT
DTSTART;TZID=America/Anchorage:20260120T190000
DTEND;TZID=America/Anchorage:20260120T203000
DTSTAMP:20260425T172703
CREATED:20260115T064750Z
LAST-MODIFIED:20260115T064935Z
UID:1085-1768935600-1768941000@www.arcticaircooledvws.com
SUMMARY:Next Club Meeting @ Guido's Pizza on Int'l Airport Rd.
DESCRIPTION:Between the winds\, snow\, cold\, and wild weather I trust everyone has faired well. \nThe good news\, day light is slowly climbing back\, and with that our coming year is underway! \nOur first meeting will be at Guidos starting @ 7pm on Tuesday 01-20-2026! \nIS your 2026 calendar needing ink?! Get your markers out! \nRemember\, the third Tuesday of every month @ 7pm we will have a monthly membership meeting locations are to be determined. \nJune 20th\, 2026 10-3pm AACVW’s 21st Annual Family Reunion @ The Dimond Center Mall! \nThis month we will be discussing what everyones TOP project for 2026 will be\, where they are at and what their game plan is. \n\n\nWhat is happening right now in the Volkswagen World? Arctic Air Cooled Vw’s is proud to have members representing us @ “Busses by the Bridge” \nSo here’s to safe travels and many great memories\, for Casey\, Tim\, Richard P.\, Gary\, Tiffany\, and Hadley! \nNot sure what Busses by the bridge is take a sneek peak here:  “Buses By The Bridge” in 2026 refers to the annual gathering for Volkswagen bus enthusiasts\, happening January 15-18\, 2026\, at Lake Havasu State Park in Lake Havasu City\, Arizona\, featuring camping\, vendors\, music\, and VW culture centered around the iconic London Bridge area. Attendees bring their classic VW buses for a laid-back desert campout\, with the event focusing on vintage air-cooled VWs.\n\nHere’s a video from the years in the past of the line up. \nBusses by the Bridge \n\nPresident AACVW’s\,\nEddie Hoecher\n—  \n\nArctic Air-cooled Volkswagens\nwww.ArcticAircooledVWs.com \nAACVW’s PO BOX:\n3705 Arctic Blvd #1300\nAnchorage\, Alaska 99503″LIKE” and follow us on Facebook!
URL:https://www.arcticaircooledvws.com/event/next-club-meeting-guidos-pizza-on-intl-airport-rd-11/
LOCATION:Guido’s Pizza\, 549 W International Airport Rd.\, Anchorage\, Anchorage\, 99518
END:VEVENT
BEGIN:VEVENT
DTSTART;TZID=America/Anchorage:20260217T190000
DTEND;TZID=America/Anchorage:20260217T203000
DTSTAMP:20260425T172703
CREATED:20260215T051440Z
LAST-MODIFIED:20260215T054543Z
UID:1089-1771354800-1771360200@www.arcticaircooledvws.com
SUMMARY:Next Club Meeting @ Guido's Pizza
DESCRIPTION:Join AACVWS for our monthly membership meeting! This Tuesday. \nWhen: This Tuesday – Feb\, 17th\, 2026 7PM\nWhere: Guidos \nWhat: Volkswagen Love got a fun story about your Volkswagen? Why you love it\, how you got it\, or something about it?\n\nJoin as we share the little things about our passion for these old cars! \nI’ll start off with a car quote that I remember coming across once\, \n\n“There is in our love of well-crafted\, half-useless\, money-losing things a comforting denial of that mechanistic universe so beloved of modern behaviorists. It’s hard to tell if we like these old cars because they have soul\, or because they help us to have one.” -Peter Egan
URL:https://www.arcticaircooledvws.com/event/next-club-meeting-guidos-pizza/
LOCATION:Guido’s Pizza\, 549 W International Airport Rd.\, Anchorage\, Anchorage\, 99518
END:VEVENT
BEGIN:VEVENT
DTSTART;TZID=America/Anchorage:20260317T190000
DTEND;TZID=America/Anchorage:20260317T210000
DTSTAMP:20260425T172703
CREATED:20260316T061335Z
LAST-MODIFIED:20260316T061335Z
UID:1095-1773774000-1773781200@www.arcticaircooledvws.com
SUMMARY:Next Club Meeting @ Guido's Pizza on Int'l Airport Rd.
DESCRIPTION:Our next AACVWs meeting is THIS TUESDAY\, March 17th\, which is also St. Patrick’s Day! Join us at Guido’s Pizza in Anchorage at 7pm! \n\nDo you like learning more about vintage Volkswagens? You can join the Vintage Volkswagen Club of America for FREE – Follow this link to sign up!\nFree and Pro Memberships – Vintage Volkswagen Club of America\n(After you sign up\, check your spam folder for your confirmation email; it will come from Jay Brand with Promoting Matters)\n\nSpring is just around the corner. In the coming months\, we will prepare for our 21st Annual Volkswagen Family Reunion Car Show on Saturday\, June 20th from 10am-3pm at the Dimond Center Mall.\n\nThe Arctic Air-Cooled Volkswagens and Vanagons of Alaska are hosting the 3rd Annual Volkswagen Glampout in Eagle River\, Alaska this July 17th-19th. Everyone is welcome to stay one or both nights\, or even just come to make s’mores. (Campground fees have already been paid.) Whether you plan to roast hot dogs\, or call in a delivery pizza order\, glamp with fellow like-minded VW nuts. Bringing your tall stories\, RC cars\, and small VW projects are encouraged. For questions\, reach out to Owen (call 907-444-1874) or Annamaria (text 907-360-7545).\n\n\n\n\n\n\n\n\nSee if you recall from last years notes which country was the first to produce the VW Beetle outside of Germany?!\nCome to the meeting to find out! \nWe look forward to having you join in on the shamrock-agons! \nPinch Buggy tag you’re it! \nPS we are rebuilding our membership directory. Be sure to add us to your safe sender list so emails like this get into your inbox! \nPresident AACVW’s\,\nEddie Hoecher\n(907) 952-1147 \n—  \n\nArctic Air-cooled Volkswagens\nwww.ArcticAircooledVWs.com \nAACVW’s PO BOX:\n3705 Arctic Blvd #1300\nAnchorage\, Alaska 99503 \n“LIKE” and follow us on Facebook!
URL:https://www.arcticaircooledvws.com/event/next-club-meeting-guidos-pizza-on-intl-airport-rd-12/
LOCATION:Guido’s Pizza\, 549 W International Airport Rd.\, Anchorage\, Anchorage\, 99518
END:VEVENT
BEGIN:VEVENT
DTSTART;TZID=America/Anchorage:20260421T190000
DTEND;TZID=America/Anchorage:20260421T210000
DTSTAMP:20260425T172703
CREATED:20260319T045232Z
LAST-MODIFIED:20260319T045232Z
UID:1104-1776798000-1776805200@www.arcticaircooledvws.com
SUMMARY:Next Club Meeting @ Guido's Pizza on Int'l Airport Rd.
DESCRIPTION:Our next AACVWs meeting is TUESDAY\, April 21st! Join us at Guido’s Pizza in Anchorage at 7pm! \nDetails TBA. \n  \n 
URL:https://www.arcticaircooledvws.com/event/next-club-meeting-guidos-pizza-on-intl-airport-rd-13/
LOCATION:Guido’s Pizza\, 549 W International Airport Rd.\, Anchorage\, Anchorage\, 99518
END:VEVENT
BEGIN:VEVENT
DTSTART;TZID=America/Anchorage:20260519T190000
DTEND;TZID=America/Anchorage:20260519T210000
DTSTAMP:20260425T172703
CREATED:20260319T045755Z
LAST-MODIFIED:20260319T053518Z
UID:1106-1779217200-1779224400@www.arcticaircooledvws.com
SUMMARY:Next Club Meeting & Cruise to Tastee Freez @ Providence Urgent Care- Midtown (the old REI location)
DESCRIPTION:We’re going to meet at Providence Urgent Care- Midtown (the old REI location) which is at 1200 W Northern Lights Blvd. 99503 for a safety check\, then cruise to Tastee Freez!
URL:https://www.arcticaircooledvws.com/event/next-club-meeting-cruise-providence-urgent-care-midtown-the-old-rei-location/
LOCATION:Providence Urgent Care- Midtown\, 1200 W Northern Lights Blvd\, Anchorage\, Alaska\, 99503
END:VEVENT
BEGIN:VEVENT
DTSTART;TZID=America/Anchorage:20260620T100000
DTEND;TZID=America/Anchorage:20260620T150000
DTSTAMP:20260425T172703
CREATED:20260317T071357Z
LAST-MODIFIED:20260317T071357Z
UID:1101-1781949600-1781967600@www.arcticaircooledvws.com
SUMMARY:The 21st annual Volkswagen Family Reunion Car Show
DESCRIPTION:The 21st annual Volkswagen Family Reunion Car Show will be held on Saturday\, June 20th\, 2026 at Dimond Center Mall’s SE parking lot. We invite you to come see the cars\, and vote for your favorites. Awards will be given for best Volkswagen\, Porsche\, Audi\, “Not a VW”\, Beater\, and also Best of Show.\nClick here for photos of previous events! \nA HUGE amount of thanks to Dimond Center Mall for hosting our event\, and handling participant perks! \nHelp hungry pets in Anchorage: bring donations of dog and cat food for The Normandy Project – www.pawsatthetable.org.
URL:https://www.arcticaircooledvws.com/event/the-21st-annual-volkswagen-family-reunion-car-show/
LOCATION:Dimond Center\, 800 E Dimond Blvd\, Anchorage\, AK\, 99515\, United States
END:VEVENT
END:VCALENDAR