BEGIN:VCALENDAR
VERSION:2.0
PRODID:-//Arctic Air-Cooled VWs - ECPv6.15.17.1//NONSGML v1.0//EN
CALSCALE:GREGORIAN
METHOD:PUBLISH
X-ORIGINAL-URL:https://www.arcticaircooledvws.com
X-WR-CALDESC:Events for Arctic Air-Cooled VWs
REFRESH-INTERVAL;VALUE=DURATION:PT1H
X-Robots-Tag:noindex
X-PUBLISHED-TTL:PT1H
BEGIN:VTIMEZONE
TZID:America/Anchorage
BEGIN:DAYLIGHT
TZOFFSETFROM:-0900
TZOFFSETTO:-0800
TZNAME:AKDT
DTSTART:20200308T110000
END:DAYLIGHT
BEGIN:STANDARD
TZOFFSETFROM:-0800
TZOFFSETTO:-0900
TZNAME:AKST
DTSTART:20201101T100000
END:STANDARD
BEGIN:DAYLIGHT
TZOFFSETFROM:-0900
TZOFFSETTO:-0800
TZNAME:AKDT
DTSTART:20210314T110000
END:DAYLIGHT
BEGIN:STANDARD
TZOFFSETFROM:-0800
TZOFFSETTO:-0900
TZNAME:AKST
DTSTART:20211107T100000
END:STANDARD
BEGIN:DAYLIGHT
TZOFFSETFROM:-0900
TZOFFSETTO:-0800
TZNAME:AKDT
DTSTART:20220313T110000
END:DAYLIGHT
BEGIN:STANDARD
TZOFFSETFROM:-0800
TZOFFSETTO:-0900
TZNAME:AKST
DTSTART:20221106T100000
END:STANDARD
BEGIN:DAYLIGHT
TZOFFSETFROM:-0900
TZOFFSETTO:-0800
TZNAME:AKDT
DTSTART:20230312T110000
END:DAYLIGHT
BEGIN:STANDARD
TZOFFSETFROM:-0800
TZOFFSETTO:-0900
TZNAME:AKST
DTSTART:20231105T100000
END:STANDARD
BEGIN:DAYLIGHT
TZOFFSETFROM:-0900
TZOFFSETTO:-0800
TZNAME:AKDT
DTSTART:20240310T110000
END:DAYLIGHT
BEGIN:STANDARD
TZOFFSETFROM:-0800
TZOFFSETTO:-0900
TZNAME:AKST
DTSTART:20241103T100000
END:STANDARD
END:VTIMEZONE
BEGIN:VEVENT
DTSTART;TZID=America/Anchorage:20230321T190000
DTEND;TZID=America/Anchorage:20230321T203000
DTSTAMP:20260425T072513
CREATED:20230322T020012Z
LAST-MODIFIED:20230322T020012Z
UID:790-1679425200-1679430600@www.arcticaircooledvws.com
SUMMARY:Next meeting: Guido’s starting at 7pm!
DESCRIPTION:Come one come all\, \nThis coming Tuesday March 21st\, 2023 will be held at Guido’s starting at 7pm! Come check out the progress being made for the Family Reunion and so much more! \nHope you can make it!
URL:https://www.arcticaircooledvws.com/event/next-meeting-guidos-starting-at-7pm/
LOCATION:Guido’s Pizza\, 549 W International Airport Rd.\, Anchorage\, Anchorage\, 99518
END:VEVENT
BEGIN:VEVENT
DTSTART;TZID=America/Anchorage:20230110T183000
DTEND;TZID=America/Anchorage:20230110T203000
DTSTAMP:20260425T072513
CREATED:20230107T032831Z
LAST-MODIFIED:20230107T032900Z
UID:779-1673375400-1673382600@www.arcticaircooledvws.com
SUMMARY:Holiday Part at Guido's Pizza!!
DESCRIPTION:This month we are having our Holiday Party THIS Tuesday 01/10/2023 Starting at 630PM! You can show up earlier if you would like\, we will start off the night at about 645pm \nWe have a table up front reserved for us\, and will be meeting at Guidos. \nLast years’ party was a blast. We had well over 20 people who brought car related gifts\, gadgets\, and art relating to cars in general\, or Volkswagen specific items/related gifts (try to keep it gifts around $30) for a “white elephant” style gift exchange. \nIf you or your family bring a gift\, you’ll get to draw a number from a hat\, and the crazy goes from there! \nThis is always a fun get together\, we will start to discuss all that is to come for the next year and talk about opportunities to help out in order to keep this great little club truckin’ forward into 2023 and beyond! \nMost importantly\, we would like to invite you and the family for a great time with family\, friends\, and MAYBE even a Volkswagen or two in the parking lot. \nTreasurer AACVW’s\,\nEddie Hoecher
URL:https://www.arcticaircooledvws.com/event/holiday-part-at-guidos-pizza/
LOCATION:Guido’s Pizza\, 549 W International Airport Rd.\, Anchorage\, Anchorage\, 99518
END:VEVENT
BEGIN:VEVENT
DTSTART;TZID=America/Anchorage:20221115T063000
DTEND;TZID=America/Anchorage:20221115T200000
DTSTAMP:20260425T072513
CREATED:20221114T060237Z
LAST-MODIFIED:20221114T060406Z
UID:765-1668493800-1668542400@www.arcticaircooledvws.com
SUMMARY:Next Meeting - Guido's Pizza
DESCRIPTION:Hey\, all this month’s meeting will be at Guido’s Pizza  Tuesday 11/15 at 6:30 till whenever we stop chatting. lol \nthe big subject we will be talking about will be the xmas party and the white elephant gift exchange.\nhope to see you all there for a good time and gear up for the holidays\n\nsee you there\n\nSteve
URL:https://www.arcticaircooledvws.com/event/next-meeting-guidos-pizza/
LOCATION:Guido’s Pizza\, 549 W International Airport Rd.\, Anchorage\, Anchorage\, 99518
END:VEVENT
BEGIN:VEVENT
DTSTART;TZID=America/Anchorage:20221018T183000
DTEND;TZID=America/Anchorage:20221018T200000
DTSTAMP:20260425T072513
CREATED:20221016T202000Z
LAST-MODIFIED:20221016T202036Z
UID:762-1666117800-1666123200@www.arcticaircooledvws.com
SUMMARY:Next meeting: Tuesday Oct 18\, 6:30 - @ Guido's Pizza
DESCRIPTION:THIS TUESDAY\, Arctic Air Cooled VWS will be getting together @ Guido’s starting at 630PM for our planned monthly meeting. \nLast month we talked about the idea of VOLKS WAGEN or a People’s car and we covered a lot of the initial beginnings covering the designer Ferdinand Porsche and how he ultimately got the job\, this next meeting we are going to jump right into 1945 when Wolfsburg got its name and where Volkswagen would start to take a lean beginning but would start to form its role and function as the car manufacture we’ve come to love. \nhttps://www.youtube.com/watch?v=6cFOwc8HUSU \n\nWe hope to see you there!\nTreasurer AACVW’s\nEddie Hoecher
URL:https://www.arcticaircooledvws.com/event/next-meeting-tuesday-oct-18-630-guidos-pizza/
LOCATION:Guido’s Pizza\, 549 W International Airport Rd.\, Anchorage\, Anchorage\, 99518
END:VEVENT
BEGIN:VEVENT
DTSTART;TZID=America/Anchorage:20220816T180000
DTEND;TZID=America/Anchorage:20220816T200000
DTSTAMP:20260425T072513
CREATED:20220816T053922Z
LAST-MODIFIED:20220816T063124Z
UID:757-1660672800-1660680000@www.arcticaircooledvws.com
SUMMARY:Arctic Air Cooled Volkswagens will be doing a meet THIS TUESDAY (8/15) @ 6pm!
DESCRIPTION:Arctic Air Cooled Volkswagens will be doing a meet THIS TUESDAY @ 6pm! \nWe have a table reserved @ Guido’s 549 West International Airport Road Anchorage Alaska 99503. \nAnd we will be celebrating our clubs’ birthday! Back in August 2001 – Arctic Air Cooled VW’s officially formed as a VW specific car group! Tuesday night we will be getting together to celebrate our group’s birthday! Come on out\, bring the family\, and of course your VW’s too! \nSee you there! \nJust as a heads up a few friends of Arctic Air Cooled VW’s have reached out concerning the availability of VW’s and parts! \nInformation to follow at the meeting\, and post meeting! Stay tuned!!! \nTreasurer AACVW’s\,\nEddie Hoecher
URL:https://www.arcticaircooledvws.com/event/arctic-air-cooled-volkswagens-will-be-doing-a-meet-this-tuesday-6pm/
LOCATION:Guido’s Pizza\, 549 W International Airport Rd.\, Anchorage\, Anchorage\, 99518
END:VEVENT
BEGIN:VEVENT
DTSTART;TZID=America/Anchorage:20220618T100000
DTEND;TZID=America/Anchorage:20220618T150000
DTSTAMP:20260425T072513
CREATED:20220428T063648Z
LAST-MODIFIED:20220428T063717Z
UID:745-1655546400-1655564400@www.arcticaircooledvws.com
SUMMARY:17th Annual Volkswagen Family Reunion Car Show\, June 18th 2022 @ Dimond Center Mall
DESCRIPTION:Please join us on June 18th 2022 for the 17th Annual Volkswagen Family Reunion! Once again it will be held at the Dimond Center Mall at 10am until 3pm\, awards to be given at 3pm. Come see the cars and meet some nice folks! \nA HUGE amount of thanks to The Dimond Center Mall for hosting our event\, and handling participant perks! We look forward to another great show!
URL:https://www.arcticaircooledvws.com/event/17th-annual-volkswagen-family-reunion-car-show/
LOCATION:Dimond Center\, 800 E Dimond Blvd\, Anchorage\, AK\, 99515\, United States
END:VEVENT
BEGIN:VEVENT
DTSTART;TZID=America/Anchorage:20220419T180000
DTEND;TZID=America/Anchorage:20220419T200000
DTSTAMP:20260425T072513
CREATED:20220419T050337Z
LAST-MODIFIED:20220419T050401Z
UID:737-1650391200-1650398400@www.arcticaircooledvws.com
SUMMARY:Spring has sprung! AACVW's Monthly membership meeting Tuesday 04/19/2022 6pm @ Guidos!
DESCRIPTION:Spring has sprung! AACVW’s Monthly membership meeting tomorrow Tuesday 04/19/2022 6pm @ Guidos! \nWe have had a great experience there and will continue our meets there\, lots to plan for April “Showers bring May flowers” and other ideas! \nWe hope you are able to make it out! We look forward to seeing you there! \nGuido’s 6PM monthly membership meeting Tuesday 04/19/2022 \nSee you there\, one and all!!! \n \nAACVW’s Treasurer\,\nEddie Hoecher\n(907)952-1147
URL:https://www.arcticaircooledvws.com/event/spring-has-sprung-aacvws-monthly-membership-meeting-tomorrow-tuesday-04-19-2022-6pm-guidos/
LOCATION:Guido’s Pizza\, 549 W International Airport Rd.\, Anchorage\, Anchorage\, 99518
END:VEVENT
BEGIN:VEVENT
DTSTART;TZID=America/Anchorage:20220315T180000
DTEND;TZID=America/Anchorage:20220315T194500
DTSTAMP:20260425T072513
CREATED:20220315T031141Z
LAST-MODIFIED:20220315T031524Z
UID:730-1647367200-1647373500@www.arcticaircooledvws.com
SUMMARY:Spring Fling Meeting! Tuesday March 15th\, 2022! 6pm-7:45pm @ Kendall VWoA
DESCRIPTION:Come on down to Kendall Volkswagen of Anchorage\, our monthly meeting will be taking place at the dealership starting @6pm. \nTopics fast approaching will be the Family Reunion and other chats as we get ready to gear up for what is sure to be an exciting Vw filled up summer! \n\n\nHope you are able to make it out\, drive alive\, \nTreasurer AACVW’s\,\nEddie Hoecher
URL:https://www.arcticaircooledvws.com/event/spring-fling-meeting-tuesday-march-15th-2022-6pm-745pm/
LOCATION:Kendall VW\, 6115 Old Seward Hwy\, Anchorage\, AK\, 99518\, United States
END:VEVENT
BEGIN:VEVENT
DTSTART;TZID=America/Anchorage:20220215T180000
DTEND;TZID=America/Anchorage:20220215T180000
DTSTAMP:20260425T072513
CREATED:20220215T081425Z
LAST-MODIFIED:20220215T081712Z
UID:721-1644948000-1644948000@www.arcticaircooledvws.com
SUMMARY:Next meeting: Guido's Pizza at six!  Feb 15\, 2022
DESCRIPTION:hey all\, \nHappy Valentine’s day everyone!!!\n\nthis Months meeting is tomorrow night (2/15) at Guido’s Pizza starting at six\n\nwhere: Guido’s pizza\, 549 W International\nwhen: 6pm\n\nwe can all talk about why we love our V-Dubs\n\nstay safe driving out there it seems winter has got a hold on us\n\nsteve
URL:https://www.arcticaircooledvws.com/event/guidos-pizza-at-six-feb-15-2022/
LOCATION:Guido’s Pizza\, 549 W International Airport Rd.\, Anchorage\, Anchorage\, 99518
END:VEVENT
BEGIN:VEVENT
DTSTART;TZID=America/Anchorage:20220118T180000
DTEND;TZID=America/Anchorage:20220118T183000
DTSTAMP:20260425T072513
CREATED:20220115T221652Z
LAST-MODIFIED:20220115T223413Z
UID:716-1642528800-1642530600@www.arcticaircooledvws.com
SUMMARY:Virtual Meeting! January 18 @ 6:00 pm - 6:30 pm
DESCRIPTION:Happy new year everyone!! \nHope everyone is hanging in there and thinking about getting their VW on the road this spring!! for now we have the January meeting to get through and this month it’s going to be a little different. \nBecause of a covid it seems meeting in public again seems to be less of a good idea. so this month we are going to try a zoom meeting.\nour meeting will only be a half hour (because that’s all the time we are allotted). \nThe Meeting will be:\ntuesday January 18\n6pm to 6:30 \nSteve Gautreau is inviting you to a scheduled Zoom meeting. \nTopic: Arctic Air Cooled January Meeting\nTime: Jan 18\, 2022 06:00 PM Alaska \nJoin Zoom Meeting:\nhttps://us05web.zoom.us/j/86849959089?pwd=cmpvdlVocmRNb3hCTTRLMG56eXh4dz09 \nMeeting ID: 868 4995 9089\nPasscode: H3AnaF \nYou can use your computer or your phone just go to the zoom website and follow the prompts. \nEddie and i will be presenting a year in review and events for 2022. \nAny questions feel free to reach out.\nSteve
URL:https://www.arcticaircooledvws.com/event/virtual-meeting/
LOCATION:AK
END:VEVENT
BEGIN:VEVENT
DTSTART;TZID=America/Anchorage:20211214T180000
DTEND;TZID=America/Anchorage:20211214T200000
DTSTAMP:20260425T072513
CREATED:20211203T194029Z
LAST-MODIFIED:20211203T194146Z
UID:712-1639504800-1639512000@www.arcticaircooledvws.com
SUMMARY:Club Holiday Party - December 14 @ Guidos Pizza\, 6:00
DESCRIPTION:Arctic Air-Cooled VWs is looking forward to hosting a holiday get together at Guido’s Pizza on Tuesday December 14th\, meeting at 6pm! \nWe will be having a gift exchange\, we always suggest $35 or less\, and please try to keep it Volkswagen or car related! Happy Holidays to all near and far!
URL:https://www.arcticaircooledvws.com/event/club-holiday-party-december-14-guidos-600/
LOCATION:Guido’s Pizza\, 549 W International Airport Rd.\, Anchorage\, Anchorage\, 99518
END:VEVENT
BEGIN:VEVENT
DTSTART;TZID=America/Anchorage:20211116T180000
DTEND;TZID=America/Anchorage:20211116T193000
DTSTAMP:20260425T072513
CREATED:20211116T043938Z
LAST-MODIFIED:20211116T045255Z
UID:704-1637085600-1637091000@www.arcticaircooledvws.com
SUMMARY:Club Meeting - Tuesday\, Nov. 16\, 6:00 @ Kendall VW
DESCRIPTION:Good evening Arctic Aircoolers\, \n\n\nHere we are buried in snow\, and digging out of frozen temperatures!\n\n\nTomorrow is the third Tuesday of the month\, (11-16-2021) which means we are going to plan a small get together at Kendall VW\, Steve will arrange with VW tomorrow for meeting space \nI encourage everyone to bring out their favorite VW related books and we’ll all glean a little VW knowledge from it hopefully\, please bring a mask as a courtesy to VW and their customers. \n\n\nSo tomorrow evening 6pm-730PM\, let’s meet at Kendall Volkswagen of Anchorage and we will go from there. Bring your favorite VW book to share with volks!…AND looking forward to our December meeting\, We are planning on the group coming together Tuesday December 14th\, 2021 for a holiday gift exchange. We plan on meeting @ 6pm and doing the gift exchange soon after dinner has been had. If you plan to participate in the gift exchange\, please try and keep it car related or VW specific\, cap is always asked and we generally suggest $30 or less. We hope to see you there\, tomorrow night and in December for the get-together. \n\n…Member Dave G’s Baja! See what I did there?! =0) \n\nTreasurer AACVW’s\,\nEddie Hoecher\n\n(907)952-1147
URL:https://www.arcticaircooledvws.com/event/club-meeting-tuesday-nov-16-600-kendall-vw/
LOCATION:Kendall VW\, 6115 Old Seward Hwy\, Anchorage\, AK\, 99518\, United States
END:VEVENT
BEGIN:VEVENT
DTSTART;TZID=America/Anchorage:20211019T060000
DTEND;TZID=America/Anchorage:20211019T193000
DTSTAMP:20260425T072513
CREATED:20211019T223803Z
LAST-MODIFIED:20211019T224022Z
UID:689-1634623200-1634671800@www.arcticaircooledvws.com
SUMMARY:Presentation 10/19/2021 - 6pm - bring a small side dish @ Kendall Volkswagen of Anchorage!
DESCRIPTION:Good afternoon all\, \nSorry for the very late last minute reminder… \nWe are planning on having a bring a small snack\, “potluck” tonight with Kendall Volkswagen of Anchorage located (Dowling and Old Seward) meeting starts @ 6pm and we plan on cleaning up and being out by about 730 (they close doors at 8pm) \nI’m going to do a small presentation on something “special” and very unique relating to Volkswagen and some VW history. I hope it will be a treat for all who are able to make it out tonight. \nCome for a good time bringing a small treat is not required just encouraged\, and bring a drink for yourself to wash it all down with! \nWe look forward to seeing you tonight\, if you are able to join in on the fun! \nTreasurer AACVW’s\,\nEddie Hoecher
URL:https://www.arcticaircooledvws.com/event/presentation-10-19-2021-6pm-bring-a-small-side-dish-kendall-volkswagen-of-anchorage/
LOCATION:Kendall VW\, 6115 Old Seward Hwy\, Anchorage\, AK\, 99518\, United States
END:VEVENT
BEGIN:VEVENT
DTSTART;TZID=America/Anchorage:20210921T180000
DTEND;TZID=America/Anchorage:20210921T200000
DTSTAMP:20260425T072513
CREATED:20210921T165617Z
LAST-MODIFIED:20210921T170345Z
UID:684-1632247200-1632254400@www.arcticaircooledvws.com
SUMMARY:Monthly Meet/Cruise 9/21/21 @ Kendall VW @ 6PM
DESCRIPTION:Good morning Arctic Aircoolers’ \nQuick question\, did FALL or WINTER just happen overnight or was it just me? \n…Join Arctic Air-cooled VW’s tonight (9/21/2021) for our monthly meet/cruise. We are planning on meeting up at Kendall Volkswagen @6PM and cruising out from there @630PM to Point MacKenzie to take a couple group shots\, then go on down the road to Tastee Freez to warm up with some Chili! \n \nHope to see you there\,\nTreasurer AACVW’s\,\nEddie Hoecher\n(907)952-1147
URL:https://www.arcticaircooledvws.com/event/monthly-meet-cruise-9-21-21-kendall-vw-6pm/
LOCATION:Kendall VW\, 6115 Old Seward Hwy\, Anchorage\, AK\, 99518\, United States
END:VEVENT
BEGIN:VEVENT
DTSTART;TZID=America/Anchorage:20210817T180000
DTEND;TZID=America/Anchorage:20210817T200000
DTSTAMP:20260425T072513
CREATED:20210813T061050Z
LAST-MODIFIED:20210813T061422Z
UID:676-1629223200-1629230400@www.arcticaircooledvws.com
SUMMARY:August 17th: Let's go on a cruise! Meet at Kendall VW at 6pm\, cruise to Tastee Freez!
DESCRIPTION:Hope everyone is doing well! \nFor the  August meeting\, let’s go on a cruise!!!! I was thinking we could meet at Kendall VW at 6pm\, and from there we could cruise to Tastee Freez\, and from there who knows. \nWho: Arctic Air Cooled VW’s\nWhat: August meeting/cruise\nWhen: Tuesday August 17th\, 6pm\nWhere: Kendall VW  \nHope to see you all there\,\n– Steve
URL:https://www.arcticaircooledvws.com/event/lets-go-on-a-cruise/
LOCATION:Kendall VW\, 6115 Old Seward Hwy\, Anchorage\, AK\, 99518\, United States
END:VEVENT
BEGIN:VEVENT
DTSTART;TZID=America/Anchorage:20210801T080000
DTEND;TZID=America/Anchorage:20210801T160000
DTSTAMP:20260425T072513
CREATED:20210801T074632Z
LAST-MODIFIED:20210801T075001Z
UID:668-1627804800-1627833600@www.arcticaircooledvws.com
SUMMARY:The Jay Ofsthun Memorial Show & Shine at the Park Strip! Sunday 8/1 @ 8am-4pm!
DESCRIPTION:Join the MSSRA club at the park strip! Sunday 8/1 @ 8am-4pm! \nThe Jay Ofsthun Memorial Show & Shine takes place at the west end of the Park Strip between 9th and 10th Avenues. It is hosted by the Midnight Sun Street Rod Association (MSSRA) and the AAMA. \nMeet at 8:00am the west end of the Park Strip. The Allens and the Ishams will bring awnings for rain or sun protection.  \nDennis Allen will bring hot dogs and condiments. Karen will bring a cooler. The Goldings will bring the coffee\, along with a table and plates\, napkins and utensils. \nDavid Jensen will bring cold beverages\, water and another table. Donn Reese will also bring tables. Tam Isham will contribute brownies\, while Nat and Sarah will bring cookies. \nIf you would like to add to the food\, bring some chips or salads. \nDon’t forget to bring your own chairs. \nhttps://www.antiqueautomushersak.org/events-one/show-shine
URL:https://www.arcticaircooledvws.com/event/the-jay-ofsthun-memorial-show-shine-at-the-park-strip-sunday-8-1-8am-4pm/
LOCATION:AK
END:VEVENT
BEGIN:VEVENT
DTSTART;TZID=America/Anchorage:20210720T180000
DTEND;TZID=America/Anchorage:20210720T180000
DTSTAMP:20260425T072513
CREATED:20210720T211733Z
LAST-MODIFIED:20210720T211733Z
UID:664-1626804000-1626804000@www.arcticaircooledvws.com
SUMMARY:Cruise tonight! Meet up @ 6pm Kendall Volkswagen\, then cruise to Wee B's for a treat!
DESCRIPTION:Hey Arctic Aircooled Volkswagen members new and old! We’re sorry for the last minute meeting reminder today\, for tonight! \nWe will be meeting at Kendall Volkswagen starting @ 6pm\, and then will cruise to Wee B’s for a treat at 6:30pm! \nSteve and I have just added those who joined @ our 16th annual FAMILY reunion which was an amazing show\, if you happened to make it out THANK YOU! \nIt was the success that it was\, because of you\, with over 50 Volkswagen\, Audi’s and Porsche’s! \nA HUGE thanks to Dimond Center Mall\, Kendall VW\, Vintage Volkswagen of America\, AK EURO\, and Culmination Motor Sports for showing up\, and hanging out! \nThe biggest thanks goes to everyone who stepped up and made this show go over smoothly\, Carl and Maryrose\, Nick (the sound man!) All the car parking assistants\, Steve our President\, Bran for capturing as many cars as she was able and so much more that was taken care of behind the scenes! \nOur next email out to you\, will recap the show in case you missed it! \nHope to see you all tonight\, but we understand if not able to make it on this last minute call out! \nBig show in Anchorage coming up in August we will be spreading the word about also! \nStay tuned\,\nTreasurer AACVW’s\nEddie Hoecher\n(907)952-1147
URL:https://www.arcticaircooledvws.com/event/cruise-tonight-meet-up-6pm-kendall-volkswagen-then-cruise-to-wee-bs-for-a-treat/
LOCATION:Kendall VW\, 6115 Old Seward Hwy\, Anchorage\, AK\, 99518\, United States
END:VEVENT
BEGIN:VEVENT
DTSTART;TZID=America/Anchorage:20210619T100000
DTEND;TZID=America/Anchorage:20210619T150000
DTSTAMP:20260425T072513
CREATED:20210511T201510Z
LAST-MODIFIED:20210511T201835Z
UID:639-1624096800-1624114800@www.arcticaircooledvws.com
SUMMARY:16th Annual Volkswagen Family Reunion Car Show @ Dimond Center
DESCRIPTION:The 16th Annual Volkswagen Family Reunion will be held at the Dimond Center Mall on June 19th 2021 from 10am until 3pm\, and this year’s show should be a great time! Come join us and see lots of classic cars\, and meet the owners.  There will be awards for VW\, Audi\, Porsche\, and best “beater”\, and door prizes will be available throughout the day.\nCheck out these great photos from the 2020 Family Reunion!
URL:https://www.arcticaircooledvws.com/event/16th-annual-volkswagen-family-reunion-car-show/
LOCATION:Dimond Center\, 800 E Dimond Blvd\, Anchorage\, AK\, 99515\, United States
END:VEVENT
BEGIN:VEVENT
DTSTART;TZID=America/Anchorage:20210518T080000
DTEND;TZID=America/Anchorage:20210518T170000
DTSTAMP:20260425T072513
CREATED:20210515T062732Z
LAST-MODIFIED:20210516T073143Z
UID:644-1621324800-1621357200@www.arcticaircooledvws.com
SUMMARY:Cruise Night is BACK!!  Kendall VW to Tastee Freez
DESCRIPTION:We are back! \nBesides the show June 19 at the mall we have a cruise this Tuesday May 18 at Kendall Volkswagen and head over to Tastee Freez for an ice cream.  From there we can talk about the show.\n\nI hope to see everyone there !\n\nSteve
URL:https://www.arcticaircooledvws.com/event/cruise-night-is-back/
LOCATION:Kendall VW\, 6115 Old Seward Hwy\, Anchorage\, AK\, 99518\, United States
END:VEVENT
END:VCALENDAR