BEGIN:VCALENDAR
VERSION:2.0
PRODID:-//Arctic Air-Cooled VWs - ECPv6.15.17.1//NONSGML v1.0//EN
CALSCALE:GREGORIAN
METHOD:PUBLISH
X-WR-CALNAME:Arctic Air-Cooled VWs
X-ORIGINAL-URL:https://www.arcticaircooledvws.com
X-WR-CALDESC:Events for Arctic Air-Cooled VWs
REFRESH-INTERVAL;VALUE=DURATION:PT1H
X-Robots-Tag:noindex
X-PUBLISHED-TTL:PT1H
BEGIN:VTIMEZONE
TZID:America/Anchorage
BEGIN:DAYLIGHT
TZOFFSETFROM:-0900
TZOFFSETTO:-0800
TZNAME:AKDT
DTSTART:20240310T110000
END:DAYLIGHT
BEGIN:STANDARD
TZOFFSETFROM:-0800
TZOFFSETTO:-0900
TZNAME:AKST
DTSTART:20241103T100000
END:STANDARD
BEGIN:DAYLIGHT
TZOFFSETFROM:-0900
TZOFFSETTO:-0800
TZNAME:AKDT
DTSTART:20250309T110000
END:DAYLIGHT
BEGIN:STANDARD
TZOFFSETFROM:-0800
TZOFFSETTO:-0900
TZNAME:AKST
DTSTART:20251102T100000
END:STANDARD
BEGIN:DAYLIGHT
TZOFFSETFROM:-0900
TZOFFSETTO:-0800
TZNAME:AKDT
DTSTART:20260308T110000
END:DAYLIGHT
BEGIN:STANDARD
TZOFFSETFROM:-0800
TZOFFSETTO:-0900
TZNAME:AKST
DTSTART:20261101T100000
END:STANDARD
END:VTIMEZONE
BEGIN:VEVENT
DTSTART;TZID=America/Anchorage:20250614T100000
DTEND;TZID=America/Anchorage:20250614T150000
DTSTAMP:20260425T190025
CREATED:20250128T092157Z
LAST-MODIFIED:20250401T222349Z
UID:946-1749895200-1749913200@www.arcticaircooledvws.com
SUMMARY:Volkswagen Family Reunion @ Dimond Center Mall
DESCRIPTION:We invite you to join us for the 20th annual Volkswagen Family Reunion car show on June 14th\, 2005\, from 10-3\, at Dimond Center Mall’s SE parking lot\, outside of H&M’s entrance\, with awards given at 3pm.  Click here for photos of last year’s show! \nA HUGE amount of thanks to Dimond Center Mall for hosting our event\, and handling participant perks! \nHelp hungry pets in Anchorage: bring donations of dog and cat food for The Normandy Project – www.pawsatthetable.org.
URL:https://www.arcticaircooledvws.com/event/next-club-meeting-guidos-pizza-on-intl-airport-rd-5/
LOCATION:Dimond Center\, 800 E Dimond Blvd\, Anchorage\, AK\, 99515\, United States
END:VEVENT
BEGIN:VEVENT
DTSTART;TZID=America/Anchorage:20250620T180000
DTEND;TZID=America/Anchorage:20250620T210000
DTSTAMP:20260425T190025
CREATED:20250618T041628Z
LAST-MODIFIED:20250618T041628Z
UID:1049-1750442400-1750453200@www.arcticaircooledvws.com
SUMMARY:MSSRA Mirror Lake Solstice Rumble!
DESCRIPTION:Midnight Street Rod Associtaion (MSSRA) has personally invited AACVW’s to the Mirror Lake Summer Solstice Car Show\, Potluck\, and BBQ! This Friday June 20th\, from 6pm to 9pm! \nSo in lieu of our annual monthly membership meeting this June\, we encourage you to drive your car out to Mirror Lake\, a perfect RIGHT IN THE MIDDLE meetup for everyone! \n\nFlyer attached for reference\, They open up the green grass area for the classics to park and relax\, this is a really good show to get to know each other! Bring a dish\, fruits\, or veggies\, salads\, or desserts! And have a good time!
URL:https://www.arcticaircooledvws.com/event/mssra-mirror-lake-solstice-rumble/
LOCATION:Alaska
END:VEVENT
END:VCALENDAR